BEGIN:VCALENDAR
VERSION:2.0
PRODID:-//X Fragile - ECPv6.10.1.1//NONSGML v1.0//EN
CALSCALE:GREGORIAN
METHOD:PUBLISH
X-WR-CALNAME:X Fragile
X-ORIGINAL-URL:https://xfragile.net
X-WR-CALDESC:Eventi per X Fragile
REFRESH-INTERVAL;VALUE=DURATION:PT1H
X-Robots-Tag:noindex
X-PUBLISHED-TTL:PT1H
BEGIN:VTIMEZONE
TZID:UTC
BEGIN:STANDARD
TZOFFSETFROM:+0000
TZOFFSETTO:+0000
TZNAME:UTC
DTSTART:20250101T000000
END:STANDARD
END:VTIMEZONE
BEGIN:VEVENT
DTSTART;TZID=UTC:20250613T150000
DTEND;TZID=UTC:20250613T180000
DTSTAMP:20260424T064941
CREATED:20250522T183205Z
LAST-MODIFIED:20250522T183205Z
UID:10000015-1749826800-1749837600@xfragile.net
SUMMARY:DIFFICOLTA’ EMOTIVE E COMPORTAMENTALI – STRATEGIE PER LA GESTIONE SCOLASTICA
DESCRIPTION:Per il progetto FORMAZIONE X INCLUSIONE \nCorso SINDROME X FRAGILE: MODELLI E METODI DI LAVORO EFFICACI  \nA cura della dott.ssa Annamaria Porru
URL:https://xfragile.net/evento/difficolta-emotive-e-comportamentali-strategie-per-la-gestione-scolastica/
END:VEVENT
BEGIN:VEVENT
DTSTART;TZID=UTC:20250617T143000
DTEND;TZID=UTC:20250617T183000
DTSTAMP:20260424T064941
CREATED:20250522T183835Z
LAST-MODIFIED:20250522T183835Z
UID:10000020-1750170600-1750185000@xfragile.net
SUMMARY:COME FAVORIRE LA COMUNICAZIONE E IL LINGUAGGIO NELLA SINDROME X FRAGILE E NEI BISOGNO COMUNICATIVI COMPLESSI
DESCRIPTION:Per il progetto FORMAZIONE X INCLUSIONE\nCorso  OLTRE L’X FRAGILE: UNA DIAGNOSI DA PRENDERE SUL SERIO\, NON ALLA LETTERA\nCristina Caciolo\, Fabio Quarin
URL:https://xfragile.net/evento/come-favorire-la-comunicazione-e-il-linguaggio-nella-sindrome-x-fragile-e-nei-bisogno-comunicativi-complessi/
END:VEVENT
BEGIN:VEVENT
DTSTART;TZID=UTC:20250620T093000
DTEND;TZID=UTC:20250620T173000
DTSTAMP:20260424T064941
CREATED:20250522T184749Z
LAST-MODIFIED:20250522T184749Z
UID:10000026-1750411800-1750440600@xfragile.net
SUMMARY:INTERNATIONAL WORKSHOP ON FRAGILE X SYNDROME
DESCRIPTION:Palazzo del Bo – Aula Nievo \nIn memory of Alessandra Murgia\, to celebrate her outstanding contributions to improving the knowledge and the care of children and families affected by Fragile X Syndrome
URL:https://xfragile.net/evento/international-workshop-on-fragile-x-syndrome/
END:VEVENT
BEGIN:VEVENT
DTSTART;TZID=UTC:20250621T080000
DTEND;TZID=UTC:20250621T170000
DTSTAMP:20260424T064941
CREATED:20250522T184840Z
LAST-MODIFIED:20250522T184840Z
UID:10000027-1750492800-1750525200@xfragile.net
SUMMARY:INCONTRO DELLE SEZIONI\, DEI GRUPPI TERRITORIALI E DEI GRUPPI DI LAVORO
DESCRIPTION:Padova
URL:https://xfragile.net/evento/incontro-delle-sezioni-dei-gruppi-territoriali-e-dei-gruppi-di-lavoro/
END:VEVENT
END:VCALENDAR